Workbook

Sheet Welcome
B2: Samruddhi Consultancy Services
B5: The Smart Way to Compute your tax
B8: INCOME TAX CALCULATOR
B9: FY 2023-24 (AY 2024-25)
B11: (For Salaried Individuals Only)
B13: Note : Please enter values in GREEN colored cells only
B16: D I S C L A I M E R
B18: This tax calculator can be used to calculate the approximate tax payable by salaried individuals and does not support Senior Citizens.
B19: This should NOT be used to compute the actual taxes to be paid to the Government. The author is not resposible for any inaccuracies in the tax computed.
B20: Our Services : l Income Tax Return l Registered Rent Agreement l MS Excel Trainings l Office Automation Tools
B21: Call/WhatsApp : 88578 22000/ 76868 22000 | J21: MySamruddhi100@gmail.com | Q21: www.MyAgreementGuru.com
B22: To build a new nation, Please pay your tax honestly.
B23: © 2023-24, MySamruddhi (MySamruddhi100@gmail.com)

Sheet Earnings
B2: MyTaxGuru - Samruddhi Consultancy Services
B3: Call/WhatsApp : 88578 22000/ 76868 22000 | H3: MySamruddhi100@gmail.com | O3: www.MyAgreementGuru.com
C4: Employee Name: | N4: PAN No. :
B5: Earning Details ( 2023-24 )
B6: Month -> | D6: 45017 | E6: 45047 | F6: 45078 | G6: 45108 | H6: 45139 | I6: 45170 | J6: 45200 | K6: 45231 | L6: 45261 | M6: 45292 | N6: 45323 | O6: 45352 | P6: Annual Total
B7: Earnings | C7: Basic Salary | D7: 0 | E7: =D7 -> 0 | F7: =E7 -> 0 | G7: =F7 -> 0 | H7: =G7 -> 0 | I7: =H7 -> 0 | J7: =I7 -> 0 | K7: =J7 -> 0 | L7: =K7 -> 0 | ... O7: =N7 -> 0 | P7: =SUM(D7:O7) -> 0
C8: Dearness Allowance | D8: 0 | E8: =D8 -> 0 | F8: =E8 -> 0 | G8: =F8 -> 0 | H8: =G8 -> 0 | I8: =H8 -> 0 | J8: =I8 -> 0 | K8: =J8 -> 0 | L8: =K8 -> 0 | ... O8: =N8 -> 0 | P8: =SUM(D8:O8) -> 0
C9: Conveyance | D9: 0 | E9: =D9 -> 0 | F9: =E9 -> 0 | G9: =F9 -> 0 | H9: =G9 -> 0 | I9: =H9 -> 0 | J9: =I9 -> 0 | K9: =J9 -> 0 | L9: =K9 -> 0 | ... O9: =N9 -> 0 | P9: =SUM(D9:O9) -> 0
C10: House Rent Allowance | D10: 0 | E10: =D10 -> 0 | F10: =E10 -> 0 | G10: =F10 -> 0 | H10: =G10 -> 0 | I10: =H10 -> 0 | J10: =I10 -> 0 | K10: =J10 -> 0 | L10: =K10 -> 0 | ... O10: =N10 -> 0 | P10: =SUM(D10:O10) -> 0
C11: Medical Allowance | D11: 0 | E11: =D11 -> 0 | F11: =E11 -> 0 | G11: =F11 -> 0 | H11: =G11 -> 0 | I11: =H11 -> 0 | J11: =I11 -> 0 | K11: =J11 -> 0 | L11: =K11 -> 0 | ... O11: =N11 -> 0 | P11: =SUM(D11:O11) -> 0
C12: Personal Allowance | D12: 0 | E12: =D12 -> 0 | F12: =E12 -> 0 | G12: =F12 -> 0 | H12: =G12 -> 0 | I12: =H12 -> 0 | J12: =I12 -> 0 | K12: =J12 -> 0 | L12: =K12 -> 0 | ... O12: =N12 -> 0 | P12: =SUM(D12:O12) -> 0
C13: Special Allowance | D13: 0 | E13: =D13 -> 0 | F13: =E13 -> 0 | G13: =F13 -> 0 | H13: =G13 -> 0 | I13: =H13 -> 0 | J13: =I13 -> 0 | K13: =J13 -> 0 | L13: =K13 -> 0 | ... O13: =N13 -> 0 | P13: =SUM(D13:O13) -> 0
C14: Leave Travel Concession | D14: 0 | E14: =D14 -> 0 | F14: =E14 -> 0 | G14: =F14 -> 0 | H14: =G14 -> 0 | I14: =H14 -> 0 | J14: =I14 -> 0 | K14: =J14 -> 0 | L14: =K14 -> 0 | ... O14: =N14 -> 0 | P14: =SUM(D14:O14) -> 0
C15: Food Allowance | D15: 0 | E15: =D15 -> 0 | F15: =E15 -> 0 | G15: =F15 -> 0 | H15: =G15 -> 0 | I15: =H15 -> 0 | J15: =I15 -> 0 | K15: =J15 -> 0 | L15: =K15 -> 0 | ... O15: =N15 -> 0 | P15: =SUM(D15:O15) -> 0
C16: Bonus | D16: 0 | E16: =D16 -> 0 | F16: =E16 -> 0 | G16: =F16 -> 0 | H16: =G16 -> 0 | I16: =H16 -> 0 | J16: =I16 -> 0 | K16: =J16 -> 0 | L16: =K16 -> 0 | ... O16: =N16 -> 0 | P16: =SUM(D16:O16) -> 0
C17: Ex-Gratia | D17: 0 | E17: =D17 -> 0 | F17: =E17 -> 0 | G17: =F17 -> 0 | H17: =G17 -> 0 | I17: =H17 -> 0 | J17: =I17 -> 0 | K17: =J17 -> 0 | L17: =K17 -> 0 | ... O17: =N17 -> 0 | P17: =SUM(D17:O17) -> 0
C18: Profit Share | D18: 0 | E18: =D18 -> 0 | F18: =E18 -> 0 | G18: =F18 -> 0 | H18: =G18 -> 0 | I18: =H18 -> 0 | J18: =I18 -> 0 | K18: =J18 -> 0 | L18: =K18 -> 0 | ... O18: =N18 -> 0 | P18: =SUM(D18:O18) -> 0
C19: Leave Encashment | D19: 0 | E19: =D19 -> 0 | F19: =E19 -> 0 | G19: =F19 -> 0 | H19: =G19 -> 0 | I19: =H19 -> 0 | J19: =I19 -> 0 | K19: =J19 -> 0 | L19: =K19 -> 0 | ... O19: =N19 -> 0 | P19: =SUM(D19:O19) -> 0
... C23: Misc. 4 (Non Taxable) | D23: 0 | E23: =D23 -> 0 | F23: =E23 -> 0 | G23: =F23 -> 0 | H23: =G23 -> 0 | I23: =H23 -> 0 | J23: =I23 -> 0 | K23: =J23 -> 0 | L23: =K23 -> 0 | ... O23: =N23 -> 0 | P23: =SUM(D23:O23) -> 0
C24: Total Earnings | D24: =SUM(D7:D23) -> 0 | E24: =SUM(E7:E23) -> 0 | F24: =SUM(F7:F23) -> 0 | G24: =SUM(G7:G23) -> 0 | H24: =SUM(H7:H23) -> 0 | I24: =SUM(I7:I23) -> 0 | J24: =SUM(J7:J23) -> 0 | K24: =SUM(K7:K23) -> 0 | ... O24: =SUM(O7:O23) -> 0 | P24: =SUM(D24:O24) -> 0
B25: Deductions | C25: Provident Fund | D25: 0 | E25: =D25 -> 0 | F25: =E25 -> 0 | G25: =F25 -> 0 | H25: =G25 -> 0 | I25: =H25 -> 0 | J25: =I25 -> 0 | K25: =J25 -> 0 | L25: =K25 -> 0 | ... O25: =N25 -> 0 | P25: =SUM(D25:O25) -> 0
C26: Profession Tax | D26: 0 | E26: =D26 -> 0 | F26: =E26 -> 0 | G26: =F26 -> 0 | H26: =G26 -> 0 | I26: =H26 -> 0 | J26: =I26 -> 0 | K26: =J26 -> 0 | L26: =K26 -> 0 | ... O26: =N26 -> 0 | P26: =SUM(D26:O26) -> 0
C27: IncomeTax (incl. Cess & S.Charge) | D27: 0 | E27: =D27 -> 0 | F27: =E27 -> 0 | G27: =F27 -> 0 | H27: =G27 -> 0 | I27: =H27 -> 0 | J27: =I27 -> 0 | K27: =J27 -> 0 | L27: =K27 -> 0 | ... O27: =N27 -> 0 | P27: =SUM(D27:O27) -> 0
C28: Food Coupons | D28: 0 | E28: =D28 -> 0 | F28: =E28 -> 0 | G28: =F28 -> 0 | H28: =G28 -> 0 | I28: =H28 -> 0 | J28: =I28 -> 0 | K28: =J28 -> 0 | L28: =K28 -> 0 | ... O28: =N28 -> 0 | P28: =SUM(D28:O28) -> 0
C29: Voluntary Provident Fund | D29: 0 | E29: =D29 -> 0 | F29: =E29 -> 0 | G29: =F29 -> 0 | H29: =G29 -> 0 | I29: =H29 -> 0 | J29: =I29 -> 0 | K29: =J29 -> 0 | L29: =K29 -> 0 | ... O29: =N29 -> 0 | P29: =SUM(D29:O29) -> 0
C30: National Pension Scheme | D30: 0 | E30: =D30 -> 0 | F30: =E30 -> 0 | G30: =F30 -> 0 | H30: =G30 -> 0 | I30: =H30 -> 0 | J30: =I30 -> 0 | K30: =J30 -> 0 | L30: =K30 -> 0 | ... O30: =N30 -> 0 | P30: =SUM(D30:O30) -> 0
C31: Other Deduction 1 | D31: 0 | E31: =D31 -> 0 | F31: =E31 -> 0 | G31: =F31 -> 0 | H31: =G31 -> 0 | I31: =H31 -> 0 | J31: =I31 -> 0 | K31: =J31 -> 0 | L31: =K31 -> 0 | ... O31: =N31 -> 0 | P31: =SUM(D31:O31) -> 0
C32: Other Deduction 2 | D32: 0 | E32: =D32 -> 0 | F32: =E32 -> 0 | G32: =F32 -> 0 | H32: =G32 -> 0 | I32: =H32 -> 0 | J32: =I32 -> 0 | K32: =J32 -> 0 | L32: =K32 -> 0 | ... O32: =N32 -> 0 | P32: =SUM(D32:O32) -> 0
C33: Total Deductions | D33: =SUM(D25:D32) -> 0 | E33: =SUM(E25:E32) -> 0 | F33: =SUM(F25:F32) -> 0 | G33: =SUM(G25:G32) -> 0 | H33: =SUM(H25:H32) -> 0 | I33: =SUM(I25:I32) -> 0 | J33: =SUM(J25:J32) -> 0 | K33: =SUM(K25:K32) -> 0 | ... O33: =SUM(O25:O32) -> 0 | P33: =SUM(D33:O33) -> 0
B34: Net Salary | D34: =D24-D33 -> 0 | E34: =E24-E33 -> 0 | F34: =F24-F33 -> 0 | G34: =G24-G33 -> 0 | H34: =H24-H33 -> 0 | I34: =I24-I33 -> 0 | J34: =J24-J33 -> 0 | K34: =K24-K33 -> 0 | ... O34: =O24-O33 -> 0 | P34: =SUM(D34:O34) -> 0
B35: © 2023-24, MySamruddhi (MySamruddhi100@gmail.com)

Sheet HRA_Exemption
H2: =IF(F3="Metro",50%,40%) -> 0.4
E3: City : | F3: =Investment!I10 -> Non-Metro | G3: A | H3: B | I3: C
C4: Month | D4: Basic Salary + DA | E4: House Rent Allowance | F4: Rent Amount | G4: % of Basic | H4: HRA Received | I4: Rent Paid - 10% Salary | J4: HRA Exemption
C5: 45017 | D5: =Earnings!$D$7+Earnings!$D$8 -> 0 | E5: =Earnings!$D$10 -> 0 | F5: =Investment!D11 -> 0 | G5: =D5*$H$2 -> 0 | H5: =E5 -> 0 | I5: =(F5-(D5*10%)) -> 0 | J5: =IF(OR(E5=0,F5=0),0,MIN(G5:I5)) -> 0
C6: 45047 | D6: =Earnings!$E$7+Earnings!$E$8 -> 0 | E6: =Earnings!$E$10 -> 0 | F6: =Investment!D12 -> 0 | G6: =D6*$H$2 -> 0 | H6: =E6 -> 0 | I6: =(F6-(D6*10%)) -> 0 | J6: =IF(OR(E6=0,F6=0),0,MIN(G6:I6)) -> 0
C7: 45078 | D7: =Earnings!$F$7+Earnings!$F$8 -> 0 | E7: =Earnings!$F$10 -> 0 | F7: =Investment!D13 -> 0 | G7: =D7*$H$2 -> 0 | H7: =E7 -> 0 | I7: =(F7-(D7*10%)) -> 0 | J7: =IF(OR(E7=0,F7=0),0,MIN(G7:I7)) -> 0
C8: 45108 | D8: =Earnings!$G$7+Earnings!$G$8 -> 0 | E8: =Earnings!$G$10 -> 0 | F8: =Investment!D14 -> 0 | G8: =D8*$H$2 -> 0 | H8: =E8 -> 0 | I8: =(F8-(D8*10%)) -> 0 | J8: =IF(OR(E8=0,F8=0),0,MIN(G8:I8)) -> 0
C9: 45139 | D9: =Earnings!$H$7+Earnings!$H$8 -> 0 | E9: =Earnings!$H$10 -> 0 | F9: =Investment!D15 -> 0 | G9: =D9*$H$2 -> 0 | H9: =E9 -> 0 | I9: =(F9-(D9*10%)) -> 0 | J9: =IF(OR(E9=0,F9=0),0,MIN(G9:I9)) -> 0
C10: 45170 | D10: =Earnings!$I$7+Earnings!$I$8 -> 0 | E10: =Earnings!$I$10 -> 0 | F10: =Investment!D16 -> 0 | G10: =D10*$H$2 -> 0 | H10: =E10 -> 0 | I10: =(F10-(D10*10%)) -> 0 | J10: =IF(OR(E10=0,F10=0),0,MIN(G10:I10)) -> 0
C11: 45200 | D11: =Earnings!$J$7+Earnings!$J$8 -> 0 | E11: =Earnings!$J$10 -> 0 | F11: =Investment!F11 -> 0 | G11: =D11*$H$2 -> 0 | H11: =E11 -> 0 | I11: =(F11-(D11*10%)) -> 0 | J11: =IF(OR(E11=0,F11=0),0,MIN(G11:I11)) -> 0
C12: 45231 | D12: =Earnings!$K$7+Earnings!$K$8 -> 0 | E12: =Earnings!$K$10 -> 0 | F12: =Investment!F12 -> 0 | G12: =D12*$H$2 -> 0 | H12: =E12 -> 0 | I12: =(F12-(D12*10%)) -> 0 | J12: =IF(OR(E12=0,F12=0),0,MIN(G12:I12)) -> 0
C13: 45261 | D13: =Earnings!$L$7+Earnings!$L$8 -> 0 | E13: =Earnings!$L$10 -> 0 | F13: =Investment!F13 -> 0 | G13: =D13*$H$2 -> 0 | H13: =E13 -> 0 | I13: =(F13-(D13*10%)) -> 0 | J13: =IF(OR(E13=0,F13=0),0,MIN(G13:I13)) -> 0
C14: 45292 | D14: =Earnings!$M$7+Earnings!$M$8 -> 0 | E14: =Earnings!$M$10 -> 0 | F14: =Investment!F14 -> 0 | G14: =D14*$H$2 -> 0 | H14: =E14 -> 0 | I14: =(F14-(D14*10%)) -> 0 | J14: =IF(OR(E14=0,F14=0),0,MIN(G14:I14)) -> 0
C15: 45323 | D15: =Earnings!$N$7+Earnings!$N$8 -> 0 | E15: =Earnings!$N$10 -> 0 | F15: =Investment!F15 -> 0 | G15: =D15*$H$2 -> 0 | H15: =E15 -> 0 | I15: =(F15-(D15*10%)) -> 0 | J15: =IF(OR(E15=0,F15=0),0,MIN(G15:I15)) -> 0
C16: 45352 | D16: =Earnings!$O$7+Earnings!$O$8 -> 0 | E16: =Earnings!$O$10 -> 0 | F16: =Investment!F16 -> 0 | G16: =D16*$H$2 -> 0 | H16: =E16 -> 0 | I16: =(F16-(D16*10%)) -> 0 | J16: =IF(OR(E16=0,F16=0),0,MIN(G16:I16)) -> 0
C18: Total | D18: =SUM(D5:D17) -> 0 | E18: =SUM(E5:E17) -> 0 | F18: =SUM(F5:F17) -> 0 | G18: =D18*$H$2 -> 0 | H18: =E18 -> 0 | I18: =(F18-(D18*10%)) -> 0 | J18: =IF(F18=0,0,MIN(G18:I18)) -> 0

Sheet Investment
B2: MyTaxGuru - Samruddhi Consultancy Services
B3: Call/WhatsApp : 88578 22000/ 76868 22000 | F3: MySamruddhi100@gmail.com | J3: www.MyAgreementGuru.com
B5: Investment Declaration ( 2023-24 )
C6: Particulars | I6: Max. Limit | J6: Investment Amount
C7: Income from House Property & Other income :
B8: 1 | C8: Interest on Housing Loan | I8: 200000 | J8: 0
B9: 2 | C9: Other Income ( NSC Interest, Bank Interest etc.) | I9: No Limit | J9: 0
B10: 3 | C10: House Rent Paid / Payable | F10: Other City | I10: =IF(F10="Other City", "Non-Metro", "Metro") -> Non-Metro | J10: =IF(HRA_Exemption!J18<0,0,HRA_Exemption!J18) -> 0
C11: 45017 | D11: 0 | E11: 45200 | F11: 0
C12: 45047 | D12: 0 | E12: 45231 | F12: 0
C13: 45078 | D13: 0 | E13: 45261 | F13: 0
C14: 45108 | D14: 0 | E14: 45292 | F14: 0
C15: 45139 | D15: 0 | E15: 45323 | F15: 0
C16: 45170 | D16: 0 | E16: 45352 | F16: 0
C17: Investments u/s 80C:
B18: 1 | C18: Public Provident Fund (sec 80C) | I18: 150000 | J18: 0
B19: 2 | C19: Children's Education (sec 80C) | I19: 150000 | J19: 0
B20: 3 | C20: Life Insurance premium (sec 80C) | I20: 150000 | J20: 0
B21: 4 | C21: Principal Repayment of Housing Loan (sec 80C) | I21: 150000 | J21: 0
B22: 5 | C22: National Saving Certificates (sec 80C) | I22: 150000 | J22: 0
B23: 6 | C23: Contribution to Pension Fund Schemes (Sec 80CCC) | I23: 150000 | J23: 0
B24: 7 | C24: Fixed Deposit in Tax Saver Scheme with Sch. Bank with term not less than 5 years (sec 80C) | I24: 150000 | J24: 0
B25: 8 | C25: Contribution to Unit Linked insurance plan (sec 80C) | I25: 150000 | J25: 0
B26: 9 | C26: Equity Linked Saving Scheme (ELSS) of Notified Mutual Fund (sec 80C) | I26: 150000 | J26: 0
B27: 10 | C27: Infrastructure Bonds (sec 80C) | I27: 150000 | J27: 0
B28: 11 | C28: Investment under Section 80CCC | I28: 150000 | J28: 0
B29: 12 | C29: Any Other Investments under Sect. 80C which not covered in above list | I29: 150000 | J29: 0
C30: Total Exemption U/S 80C (No need to declare the investments above Rs.1,50,000/-) | I30: 150000 | J30: =MIN(150000,SUM(J18:J29)) -> 0
C31: Rebate u/s 89 | J31: 0
C32: Investments under Chapter VI-A
B33: 1 | C33: Medical Insurance Premium - for the assessee, spouse & Childrens (Sec. 80D) | I33: 25000 | J33: 0
B34: 2 | C34: Medical Insurance - for parents (Sec.80D) | F34: Is Sr. Citizen ? | G34: No | I34: =IF(G34="Yes", 50000,25000) -> 25000 | J34: 0
B35: 3 | C35: Section 80DDB - Medical Disability (specified diseases only) | G35: No | I35: =IF(G35="Yes",40000,0) -> 0 | J35: =I35 -> 0
B36: 4 | C36: Physical Disability for Dependent (Sec 80DD) | G36: N.A. | I36: =IF(G36="< 80%",75000,IF(G36="> 80%",125000,0)) -> 0 | J36: =I36 -> 0
B37: 5 | C37: Self Disability (Section 80 U) | G37: N.A. | I37: =IF(G37="< 80%",75000,IF(G37="> 80%",125000,0)) -> 0 | J37: =I37 -> 0
B38: 6 | C38: Interest on Savings Account (Sec. 80TTA) | I38: 10000 | J38: 0
B39: 7 | C39: Interest on Education Loan Repayment (Sec 80E) | I39: No Limit | J39: 0
B40: 8 | C40: Interest on Electrical Vehicle loan (Sec. 80EEB) | I40: 150000 | J40: 0
B41: 9 | C41: National Pension Schemne (Sec. 80CCD (1B)) | I41: 50000 | J41: 0
B42: 10 | C42: Donations (Sec. 80G) | G42: N.A. | J42: 0
...

Sheet Report
B2: MyTaxGuru - Samruddhi Consultancy Services
B3: Call/WhatsApp : 88578 22000/ 76868 22000 | E3: MySamruddhi100@gmail.com | H3: www.MyAgreementGuru.com
C4: =IF(Earnings!D4="","",Earnings!D4) | G4: PAN : | H4: =IF(Earnings!O4="","",Earnings!O4)
G5: Tax Comuptation - Existing Regime | H5: Tax Comuptation - New Regime (Sec. 115BAC)
B6: 1 | C6: Gross Salary | G6: =SUM(Earnings!P7:P21) -> 0 | H6: =SUM(Earnings!P7:P21) -> 0
B7: 2 | C7: Less: Allowances Exempt Under Section 10
C8: a. | D8: House Rent Allowance u/s 10(13A) | E8: =Investment!J10 -> 0
C9: b. | D9: Other Allowances Exempt Under Section 10 | E9: =Investment!J44 -> 0
C10: c. | D10: Exemption in respect of free food vouchers / Coupons | E10: =Investment!J45 -> 0
C11: d. | D11: Leave Travel Bills Re-imbursements | E11: =Investment!J46 -> 0
B12: 3 | C12: Balance (1-2) | G12: =G6-SUM(E8:E11) -> 0 | H12: =H6 -> 0
B13: 4 | C13: Deductions:
C14: a. | D14: Standard Deduction | E14: =IF(Earnings!P24>0, 50000,) -> 0
C15: b. | D15: Tax on Employment | E15: =Earnings!P26 -> 0
B16: 5 | C16: Aggregate of 4 (a & b) | G16: =SUM(E14:E15) -> 0 | H16: =E14 -> 0
B17: 6 | C17: Income chargeable under the head 'Salaries' (3-5) | G17: =G12-G16 -> 0 | H17: =H12-H16 -> 0
B18: 7 | C18: Any other income reported by the employee
C19: a. | D19: Interest on Housing Loan | E19: =-Investment!J8 -> 0
C20: b. | D20: Income from other sources | E20: =-Investment!J9 -> 0
C21: c. | D21: Total [ a to b ] | G21: =SUM(E19:E20) -> 0 | H21: =E20 -> 0
B22: 8 | C22: Gross total income (6+7) | G22: =SUM(G17:G21) -> 0 | H22: =SUM(H17:H21) -> 0
B23: 9 | C23: Deductions under Chapter VI-A | E23: Gross Amt. | F23: Qualify. Amt.
C24: (A) | D24: Section 80C, 80CCC and 80CCD
C25: 1 | D25: Provident Fund (sec 80C) | E25: =Earnings!P25+Earnings!P29 -> 0 | F25: =MIN(E25,150000) -> 0
C26: 2 | D26: Public Provident Fund (sec 80C) | E26: =Investment!J18 -> 0 | F26: =MIN(E26,150000) -> 0
C27: 3 | D27: Children's Education (sec 80C) | E27: =Investment!J19 -> 0 | F27: =MIN(E27,150000) -> 0
C28: 4 | D28: Life Insurance premium (sec 80C) | E28: =Investment!J20 -> 0 | F28: =MIN(E28,150000) -> 0
C29: 5 | D29: Principal Repayment of Housing Loan (sec 80C) | E29: =Investment!J21 -> 0 | F29: =MIN(E29,150000) -> 0
C30: 6 | D30: National Saving Certificates (sec 80C) | E30: =Investment!J22 -> 0 | F30: =MIN(E30,150000) -> 0
C31: 7 | D31: Contribution to Pension Fund Schemes (Sec 80CCC) | E31: =Investment!J23 -> 0 | F31: =MIN(E31,150000) -> 0
C32: 8 | D32: Fixed Deposit Tax Saver Scheme with Sch. Bank with > 5 years (sec 80C) | E32: =Investment!J24 -> 0 | F32: =MIN(E32,150000) -> 0
C33: 9 | D33: Contribution to Unit Linked insurance plan (sec 80C) | E33: =Investment!J25 -> 0 | F33: =MIN(E33,150000) -> 0
C34: 10 | D34: Equity Linked Saving Scheme (ELSS) of Notified Mutual Fund (sec 80C) | E34: =Investment!J26 -> 0 | F34: =MIN(E34,150000) -> 0
C35: 11 | D35: Infrastructure Bonds (sec 80C) | E35: =Investment!J27 -> 0 | F35: =MIN(E35,150000) -> 0
C36: 12 | D36: Investment under Section 80CCC | E36: =Investment!J28 -> 0 | F36: =MIN(E36,150000) -> 0
C37: 13 | D37: Any Other Investments under Sect. 80C | E37: =Investment!J29 -> 0 | F37: =MIN(E37,150000) -> 0
D38: Total of Section 80C, 80CCC and 80CCD | E38: =SUM(E25:E37) -> 0 | F38: =SUM(F25:F37) -> 0
C39: (B) | D39: Other Sect.(for e.g. 80E, 80G etc.) under Chapt. VI-A
C40: 1 | D40: Medical Insurance - for the assessee, spouse & Childrens (Sec. 80D) | E40: =Investment!J33 -> 0 | F40: =MIN(Investment!I33,Investment!J33) -> 0
C41: 2 | D41: Medical Insurance - for parents (Sec.80D) | E41: =Investment!J34 -> 0 | F41: =MIN(Investment!I34,Investment!J34) -> 0
...
